
BEGIN:VCALENDAR

VERSION:2.0

PRODID:vsa-calendar

BEGIN:VEVENT

DTSTART:20240725T180000

DTEND:20240725T230000

SUMMARY:LES GUINGUETTES - SPECTACULAR CONQUERING SOUND
LOCATION:Akwaba 500 Chemin des Matouses, 84470 Châteauneuf-de-Gadagne, France

URL;VALUE=URI:http://akwaba.coop/agenda-akwaba---les-guinguettes-spectacular---1800---76l6v4795ya8.html

DTSTAMP:20260421T185107
UID:69e7aafb18a9b
END:VEVENT

END:VCALENDAR
